BEGIN:VCALENDAR
VERSION:2.0
PRODID:icalendar-ruby
CALSCALE:GREGORIAN
METHOD:PUBLISH
BEGIN:VEVENT
DTSTAMP:20260421T225747Z
UID:6-304661@prospectmarvinchapelumc.org
DTSTART:20261108T150000Z
DTEND:20261108T160000Z
CLASS:PUBLIC
CREATED:20260305T211424
DESCRIPTION:
LAST-MODIFIED:20260305T211424
LOCATION:Prospect UMC
SUMMARY:Contemporary Worship Service
URL;VALUE=URI:https://prospectmarvinchapelumc.org/events/contemporary-worsh
 ip-service/2026-11-08
ATTACH;FILENAME=praiseband_090824_sized1.jpg;FMTTYPE=image/jpeg:https://dq5
 pwpg1q8ru0.cloudfront.net/2026/03/06/02/14/24/35f93bd4-4853-4538-bd65-2a6d
 db4ed27a/praiseband_090824_sized1.jpg
END:VEVENT
END:VCALENDAR
